BEGIN:VCALENDAR
VERSION:2.0
PRODID:-//Moigny-sur-École - ECPv5.4.0.2//NONSGML v1.0//EN
CALSCALE:GREGORIAN
METHOD:PUBLISH
X-WR-CALNAME:Moigny-sur-École
X-ORIGINAL-URL:https://www.moigny-sur-ecole.com
X-WR-CALDESC:évènements pour Moigny-sur-École
BEGIN:VTIMEZONE
TZID:Europe/Paris
BEGIN:DAYLIGHT
TZOFFSETFROM:+0100
TZOFFSETTO:+0200
TZNAME:CEST
DTSTART:20260329T010000
END:DAYLIGHT
BEGIN:STANDARD
TZOFFSETFROM:+0200
TZOFFSETTO:+0100
TZNAME:CET
DTSTART:20261025T010000
END:STANDARD
END:VTIMEZONE
BEGIN:VEVENT
DTSTART;TZID=Europe/Paris:20260613T100000
DTEND;TZID=Europe/Paris:20260613T170000
DTSTAMP:20260422T155531
CREATED:20260318T165025Z
LAST-MODIFIED:20260318T165025Z
UID:9088-1781344800-1781370000@www.moigny-sur-ecole.com
SUMMARY:Stage de peinture - pastel - Atelier de Flo
DESCRIPTION:
URL:https://www.moigny-sur-ecole.com/evenement/stage-de-peinture-pastel-atelier-de-flo/
LOCATION:Aréna Moignacoise – Salle des fêtes\, 6\, rue de Verdun\, Moigny-sur-École\, 91490\, France
CATEGORIES:à la une,Pratique
ATTACH;FMTTYPE=image/jpeg:https://www.moigny-sur-ecole.com/wp-content/uploads/2026/03/Stage-peinture-pastel-Arena.jpg
END:VEVENT
END:VCALENDAR