BEGIN:VCALENDAR
VERSION:2.0
PRODID:-//Moigny-sur-École - ECPv5.4.0.2//NONSGML v1.0//EN
CALSCALE:GREGORIAN
METHOD:PUBLISH
X-WR-CALNAME:Moigny-sur-École
X-ORIGINAL-URL:https://www.moigny-sur-ecole.com
X-WR-CALDESC:évènements pour Moigny-sur-École
BEGIN:VTIMEZONE
TZID:Europe/Paris
BEGIN:DAYLIGHT
TZOFFSETFROM:+0100
TZOFFSETTO:+0200
TZNAME:CEST
DTSTART:20260329T010000
END:DAYLIGHT
BEGIN:STANDARD
TZOFFSETFROM:+0200
TZOFFSETTO:+0100
TZNAME:CET
DTSTART:20261025T010000
END:STANDARD
END:VTIMEZONE
BEGIN:VEVENT
DTSTART;TZID=Europe/Paris:20260412T170000
DTEND;TZID=Europe/Paris:20260412T170000
DTSTAMP:20260420T132712
CREATED:20260228T093612Z
LAST-MODIFIED:20260228T093612Z
UID:9023-1776013200-1776013200@www.moigny-sur-ecole.com
SUMMARY:Concert de polyphonies corses - A STONDA
DESCRIPTION:
URL:https://www.moigny-sur-ecole.com/evenement/concert-de-polyphonies-corses-a-stonda/
LOCATION:Eglise Saint-Denis\, Grand-Rue\, Moigny-sur-École\, 91490\, France
CATEGORIES:à la une,Culture
ATTACH;FMTTYPE=image/png:https://www.moigny-sur-ecole.com/wp-content/uploads/2026/02/Affiche-A-Stonda-12-avril-2026-Moigny.png
END:VEVENT
END:VCALENDAR